BEGIN:VCALENDAR
VERSION:2.0
PRODID:-//LUkraine ASBL - Rebuild People to Rebuild Ukraine - ECPv6.15.20//NONSGML v1.0//EN
CALSCALE:GREGORIAN
METHOD:PUBLISH
X-ORIGINAL-URL:https://lukraine.org
X-WR-CALDESC:Events for LUkraine ASBL - Rebuild People to Rebuild Ukraine
REFRESH-INTERVAL;VALUE=DURATION:PT1H
X-Robots-Tag:noindex
X-PUBLISHED-TTL:PT1H
BEGIN:VTIMEZONE
TZID:Europe/Helsinki
BEGIN:DAYLIGHT
TZOFFSETFROM:+0200
TZOFFSETTO:+0300
TZNAME:EEST
DTSTART:20240331T010000
END:DAYLIGHT
BEGIN:STANDARD
TZOFFSETFROM:+0300
TZOFFSETTO:+0200
TZNAME:EET
DTSTART:20241027T010000
END:STANDARD
BEGIN:DAYLIGHT
TZOFFSETFROM:+0200
TZOFFSETTO:+0300
TZNAME:EEST
DTSTART:20250330T010000
END:DAYLIGHT
BEGIN:STANDARD
TZOFFSETFROM:+0300
TZOFFSETTO:+0200
TZNAME:EET
DTSTART:20251026T010000
END:STANDARD
BEGIN:DAYLIGHT
TZOFFSETFROM:+0200
TZOFFSETTO:+0300
TZNAME:EEST
DTSTART:20260329T010000
END:DAYLIGHT
BEGIN:STANDARD
TZOFFSETFROM:+0300
TZOFFSETTO:+0200
TZNAME:EET
DTSTART:20261025T010000
END:STANDARD
END:VTIMEZONE
BEGIN:VEVENT
DTSTART;TZID=Europe/Helsinki:20250614T170000
DTEND;TZID=Europe/Helsinki:20250614T230000
DTSTAMP:20260419T235124
CREATED:20250530T141634Z
LAST-MODIFIED:20260131T115550Z
UID:10000087-1749920400-1749942000@lukraine.org
SUMMARY:On the way to the Boulevard de Kyiv
DESCRIPTION:Luxembourg introduced the Boulevard de Kyiv in solidarity with Ukraine and we want to introduce Kyiv to Luxembourg!\nDon’t miss a unique opportunity to learn about Ukraine’s capital from our prominent guest speakers and through an exceptional art exhibition while enjoying relaxing DJ music\, a market with distinctive home design\, books & crafts\, Ukrainian food featuring Chicken Kyiv and Kyiv Cake\, and a special activity that will make Kyiv and Luxembourg closer! \nFree \n  \nPROGRAM\nKyiv – one of the oldest and historically rich European cities. \nFrom being home of centuries-old art and architecture to hosting colourful music festivals\, Kyiv is a city that everyone should experience. \nWhile many of us miss the lively streets of Kyiv\, we recreate a piece of it in Luxembourg. \nJoin us for a relaxing evening in Rotondes and \n\nlearn about Kyiv through our interactive map and special artistic activity that will bring Kyiv and Luxembourg closer!\nparticipate in “Talks about Kyiv” with prominent\n\nKhrystyna Kulakovska\, Ukrainian producer\, journalist and photographer at Ukraїner media and Zhyteli Kyieva (Humans of Kyiv)\nPhilippe Schockweiler\,  Luxembourgish journalist\, author\, storyteller and media trainer\nScheuren Didier\, artist engineer\, Initiator and operator of Kuckuck\nMiriam Dragina – Ukrainian journalist\, poet\, writer and radio presenter.\nmoderated by Viktoria Boretska\n\n\nfeel Kyiv while watching “Sounds of Kyiv” movie\nenjoy ambient DJ set by Amelin (https://www.instagram.com/antonyamelin/#)\nexplore Kyiv-themed art exhibition\, under art curatorship of incredible  Marina Rozhko.\n\nand of course \n\nget a piece of Kyiv at our crafts market featuring Ukrainian home design and books\nenjoy Ukrainian food and drinks!\n\nSee you there!
URL:https://lukraine.org/event/on-the-way-to-the-boulevard-de-kyiv/
LOCATION:Rotondes\, 3\, Place des Rotondes\, 2448 Bonneweg-Nord\, Luxembourg\, Luxembourg
ATTACH;FMTTYPE=image/jpeg:https://lukraine.org/wp-content/uploads/2026/01/5.jpg
END:VEVENT
END:VCALENDAR