BEGIN:VCALENDAR
VERSION:2.0
PRODID:-//LUkraine ASBL - Rebuild People to Rebuild Ukraine - ECPv6.15.20//NONSGML v1.0//EN
CALSCALE:GREGORIAN
METHOD:PUBLISH
X-WR-CALNAME:LUkraine ASBL - Rebuild People to Rebuild Ukraine
X-ORIGINAL-URL:https://lukraine.org
X-WR-CALDESC:Events for LUkraine ASBL - Rebuild People to Rebuild Ukraine
REFRESH-INTERVAL;VALUE=DURATION:PT1H
X-Robots-Tag:noindex
X-PUBLISHED-TTL:PT1H
BEGIN:VTIMEZONE
TZID:Europe/Helsinki
BEGIN:DAYLIGHT
TZOFFSETFROM:+0200
TZOFFSETTO:+0300
TZNAME:EEST
DTSTART:20240331T010000
END:DAYLIGHT
BEGIN:STANDARD
TZOFFSETFROM:+0300
TZOFFSETTO:+0200
TZNAME:EET
DTSTART:20241027T010000
END:STANDARD
BEGIN:DAYLIGHT
TZOFFSETFROM:+0200
TZOFFSETTO:+0300
TZNAME:EEST
DTSTART:20250330T010000
END:DAYLIGHT
BEGIN:STANDARD
TZOFFSETFROM:+0300
TZOFFSETTO:+0200
TZNAME:EET
DTSTART:20251026T010000
END:STANDARD
BEGIN:DAYLIGHT
TZOFFSETFROM:+0200
TZOFFSETTO:+0300
TZNAME:EEST
DTSTART:20260329T010000
END:DAYLIGHT
BEGIN:STANDARD
TZOFFSETFROM:+0300
TZOFFSETTO:+0200
TZNAME:EET
DTSTART:20261025T010000
END:STANDARD
END:VTIMEZONE
BEGIN:VEVENT
DTSTART;TZID=Europe/Helsinki:20250611T190000
DTEND;TZID=Europe/Helsinki:20250611T210000
DTSTAMP:20260419T235659
CREATED:20250530T140803Z
LAST-MODIFIED:20260131T113934Z
UID:10000085-1749668400-1749675600@lukraine.org
SUMMARY:Screening of “Slovo House. Unfinished Novel”
DESCRIPTION:Slovo House is a story about a generation of Ukrainian artists persecuted by the totalitarian system\, unfolding against the backdrop of one of the largest genocides of the 20th century – the Holodomor.\nDirected by Taras Tomenko.\nScreened in partnership with Cineast. \n\n\nPROGRAM\n\n\n\n\n\n“Slovo” House. Unfinished Novel is a dramatic story about Ukrainian writers from the era of the “Executed Renaissance\,” who were gathered under the roof of one building and forced to work for the benefit of the Soviet system. The film depicts how the communist paradise turns into communist hell. \nIn 1927\, Soviet Ukraine\, by order of Stalin\, the “Slovo” cooperative house was built in Kharkiv. The most outstanding Ukrainian writers live in comfortable apartments. All of them became participants in an experiment aimed at deriving a new type of Soviet writer and establishing total control over the creative process in order to create a single artistic method of socialist realism. However\, not every writer agrees to glorify Stalin’s cult. Unexpectedly for the residents of the “Slovo” House\, an unknown young writer named Volodymyr Akimov moves in with them. Who is he? No one knows. With his arrival\, strange things begin to happen in the “Slovo” House\, things that its walls still remain silent about. \nOriginal title: Будинок СЛОВО. Нескінчений роман. \nDirector: Taras Tomenko \nStarring: Dmytro Oliynyk\, Vyacheslav Dovzhenko\, Stanislav Suknenko \nGenre: Drama \nAudio: Ukrainian \nSubtitles: English \nRuntime: 2 hours \nCountry/year of production: Ukraine\, 2021 \nBuy a ticket
URL:https://lukraine.org/event/screening-of-slovo-house-unfinished-novel/
LOCATION:La Cinémathèque de la Ville de Luxembourg\, 17 Pl. du Théâtre\, Ville-Haute Luxembourg\, 2613\, Luxembourg
ATTACH;FMTTYPE=image/png:https://lukraine.org/wp-content/uploads/2026/01/3-scaled-1.png
END:VEVENT
END:VCALENDAR