BEGIN:VCALENDAR
VERSION:2.0
PRODID:-//LUkraine ASBL - Rebuild People to Rebuild Ukraine - ECPv6.15.20//NONSGML v1.0//EN
CALSCALE:GREGORIAN
METHOD:PUBLISH
X-ORIGINAL-URL:https://lukraine.org
X-WR-CALDESC:Events for LUkraine ASBL - Rebuild People to Rebuild Ukraine
REFRESH-INTERVAL;VALUE=DURATION:PT1H
X-Robots-Tag:noindex
X-PUBLISHED-TTL:PT1H
BEGIN:VTIMEZONE
TZID:Europe/Luxembourg
BEGIN:DAYLIGHT
TZOFFSETFROM:+0100
TZOFFSETTO:+0200
TZNAME:CEST
DTSTART:20240331T010000
END:DAYLIGHT
BEGIN:STANDARD
TZOFFSETFROM:+0200
TZOFFSETTO:+0100
TZNAME:CET
DTSTART:20241027T010000
END:STANDARD
BEGIN:DAYLIGHT
TZOFFSETFROM:+0100
TZOFFSETTO:+0200
TZNAME:CEST
DTSTART:20250330T010000
END:DAYLIGHT
BEGIN:STANDARD
TZOFFSETFROM:+0200
TZOFFSETTO:+0100
TZNAME:CET
DTSTART:20251026T010000
END:STANDARD
BEGIN:DAYLIGHT
TZOFFSETFROM:+0100
TZOFFSETTO:+0200
TZNAME:CEST
DTSTART:20260329T010000
END:DAYLIGHT
BEGIN:STANDARD
TZOFFSETFROM:+0200
TZOFFSETTO:+0100
TZNAME:CET
DTSTART:20261025T010000
END:STANDARD
END:VTIMEZONE
BEGIN:VEVENT
DTSTART;TZID=Europe/Luxembourg:20250430T160000
DTEND;TZID=Europe/Luxembourg:20250514T160000
DTSTAMP:20260423T175822
CREATED:20260131T082713Z
LAST-MODIFIED:20260131T082713Z
UID:10000082-1746028800-1747238400@lukraine.org
SUMMARY:TIMESTAMP by Kateryna Gornostai І  Іn Luxembourg Сinemas
DESCRIPTION:The documentary TIMESTAMP by Ukrainian director Kateryna Gornostai\, selected for the official competition at the most recent Berlinale\, will be released in Luxembourg cinemas starting April 30.\n\nScreenings will take place at the following venues:\n Tickets available at:\n UTOPIA: https://kinepolis.lu/…/detail/35634/HO00007250/0/timestamp KINEPOLIS BELVAL: https://kinepolis.lu/…/detail/35634/HO00007250/0/timestamp KULTURHUEF: https://tickets.kulturhuef.lu/de/movies/view/timestamp CINÉ PRABBELI: https://tickets.prabbeli.lu/de/movies/view/timestamp CINÉ SURA: https://www.cinextdoor.lu/projects/cin%C3%A9-sura CINÉ ORION: https://orion.lu/fr/movies/view/timestamp CINÉ STARLIGHT: https://tickets.cinestarlight.lu/de/movies/view/timestamp CINÉ LE PARIS: https://leparis.lu/fr/movies/view/timestamp KINOLER: https://kinoler.lu/fr/movies/view/timestamp\n\nTIMESTAMP is produced by 2Brave Productions (Ukraine) and co-produced by a_BAHN (Luxembourg)\, Rinkel Film BV (Netherlands)\, and Cinephage Productions (France) as associate producer.\nThe concept was developed by the Ukrainian educational organization Osvitoria\, which also served as the executive producer.\nWe invite the Ukrainian community and all film enthusiasts to watch this powerful documentary!
URL:https://lukraine.org/event/timestamp-by-kateryna-gornostai-i-in-luxembourg-sinemas/
ATTACH;FMTTYPE=image/jpeg:https://lukraine.org/wp-content/uploads/2026/01/494408833_1083320610498888_7502480996919883249_n-sc1eqx.jpg
END:VEVENT
BEGIN:VEVENT
DTSTART;TZID=Europe/Luxembourg:20250506T120000
DTEND;TZID=Europe/Luxembourg:20250506T133000
DTSTAMP:20260423T175822
CREATED:20260131T082711Z
LAST-MODIFIED:20260131T082711Z
UID:10000080-1746532800-1746538200@lukraine.org
SUMMARY:Europe – Ukraine: shaping a unified strategy in times of change
DESCRIPTION:Join us for an insightful\, educational lecture by Viktor Yushchenko\, former President of Ukraine (2005–2010)\, on the evolving dynamics between Europe and Ukraine. The lecture explores the challenges and opportunities both regions face. Attendees will gain a deeper understanding of how shared values\, historical context\, and innovative thinking can guide collaborative strategies for the future. \nThe lecture is part of the broader program surrounding the Charity Gala Dinner\, held under the High Patronage of Her Royal Highness the Hereditary Grand Duchess of Luxembourg\, and dedicated to supporting humanitarian and educational initiatives for Ukraine: Charity Gala Dinner \nViktor Yushchenko served as the third President of Ukraine from 2005 to 2010. Prior to his presidency\, he built a strong reputation in finance as Governor of the National Bank of Ukraine\, where he oversaw significant monetary reforms. His leadership and commitment to fostering democratic values emphasize the power of knowledge and educational engagement\, making his lecture particularly relevant for a library audience seeking deeper insights into Europe – Ukraine relations. \n✅ Registration is open: Europe – Ukraine: shaping a unified strategy in times of change
URL:https://lukraine.org/event/europe-ukraine-shaping-a-unified-strategy-in-times-of-change/
END:VEVENT
BEGIN:VEVENT
DTSTART;TZID=Europe/Luxembourg:20250506T180000
DTEND;TZID=Europe/Luxembourg:20250507T000000
DTSTAMP:20260423T175822
CREATED:20260131T082704Z
LAST-MODIFIED:20260131T082704Z
UID:10000075-1746554400-1746576000@lukraine.org
SUMMARY:LUkrainе’s Charity Gala Dinner
DESCRIPTION:Date: 6 May \nLocation: Circle Cité\, Luxembourg \nUnder the esteemed patronage of Her Royal Highness the Hereditary Grand Duchess Stéphanie\, LUkraine is proud to host a special night dedicated to changing lives – the Charity Gala Dinner. \nThis year\, we unite to support the TYTANOVI Project\, which provides advanced prosthetics to Ukrainians who have lost limbs in the war. The event will feature honoured guests\, including the President of Ukraine (2005-2010)\, Viktor Yushchenko and four Heroes of Ukraine supported by the TYTANOVI Project. \nThe evening will be graced by performances from Eurovision 2016 winner Jamala and futuristic laser harp artist Olga Rossi\, the first artist in the world to master the futuristic laser harp. Our host for the night will be the renowned Lisa Burke. \nWe are also expecting several other VIP guests\, including Claude Wiser\, President of the Luxembourg Chamber of Deputies\, and Anne Calteux\, Head of Representation of the EU Commission to Luxembourg. \nThe dinner will also include an auction featuring unique pieces such as amber jewellery\, paintings and more. \nYour support in spreading the information about this event will help us provide more funds to our injured heroes. \nTickets are priced at €280. For more information and to reserve your tickets\, please visit https://gala.lukraine.org  \n______________________________________________________________________ \nFor interview requests or any other press-related enquiries regarding this event\, please contact liza.shliakhova@ukrainians.lu \n 
URL:https://lukraine.org/event/lukraines-charity-gala-dinner/
ATTACH;FMTTYPE=image/png:https://lukraine.org/wp-content/uploads/2026/01/image-63-lnajmy.png
END:VEVENT
BEGIN:VEVENT
DTSTART;TZID=Europe/Luxembourg:20250510T120000
DTEND;TZID=Europe/Luxembourg:20250510T180000
DTSTAMP:20260423T175822
CREATED:20260131T082709Z
LAST-MODIFIED:20260131T082709Z
UID:10000079-1746878400-1746900000@lukraine.org
SUMMARY:Europe Day 2025
DESCRIPTION:𝐃𝐢𝐬𝐜𝐨𝐯𝐞𝐫 𝐄𝐮𝐫𝐨𝐩𝐞 𝐮𝐩 𝐜𝐥𝐨𝐬𝐞: 𝐄𝐮𝐫𝐨𝐩𝐞 𝐃𝐚𝐲 𝟐𝟎𝟐𝟓 𝐢𝐬 𝐜𝐨𝐦𝐢𝐧𝐠 𝐭𝐨 𝐄𝐜𝐡𝐭𝐞𝐫𝐧𝐚𝐜𝐡 𝐭𝐡𝐢𝐬 𝐲𝐞𝐚𝐫!\nAfter the successful Europe Day editions in Esch-sur-Alzette (2022) and Luxembourg City (2023\, 2024)\, we are heading to the charming east of the country – to the city of Echternach.\nThe proximity to Germany and the involvement of the city of Trier give the celebrations a cross-border dimension.\nExplore the diversity of Europe by visiting the European village with its numerous stands on Saturday\, May 10\, 2025\, from 12 to 6 PM.\nA varied program with cultural and musical highlights awaits you\, with the presence of H.R.H. the Grand Duke and other prominent personalities. Be enchanted by culinary delights and entertainment for everyone.\nSave the date and join us to celebrate Europe Day together.\nMORE INFORMATION WILL FOLLOW SOON. \n𝐓𝐡𝐢𝐬 𝐞𝐯𝐞𝐧𝐭 𝐢𝐬 𝐟𝐫𝐞𝐞 𝐨𝐟 𝐜𝐡𝐚𝐫𝐠𝐞.\nThe Representation of the European Commission in Luxembourg brings Europe Day 2025 to you in collaboration with the City of Echternach\, the Lycée Classique d’Echternach\, the Luxembourg government\, and the European Parliament.\n𝘗𝘭𝘦𝘢𝘴𝘦 𝘯𝘰𝘵𝘦: Photos and videos will be taken at these events\, and they may be used for our public relations. Further information can be found in the privacy policy (https://europa.eu/!rt9PwX)
URL:https://lukraine.org/event/europe-day-2025/
ATTACH;FMTTYPE=image/jpeg:https://lukraine.org/wp-content/uploads/2026/01/490750809_1083720647131788_9112204151628881929_n-z45wea.jpg
END:VEVENT
BEGIN:VEVENT
DTSTART;TZID=Europe/Luxembourg:20250514T180000
DTEND;TZID=Europe/Luxembourg:20250514T200000
DTSTAMP:20260423T175822
CREATED:20260131T082712Z
LAST-MODIFIED:20260131T082712Z
UID:10000081-1747245600-1747252800@lukraine.org
SUMMARY:Medical Evacuation in Conflict Zones: Realities\, Challenges\, and NGO Involvement
DESCRIPTION:On behalf of LUkraine\, we are pleased to invite you to our panel discussion titled “Medical Evacuation in Conflict Zones: Realities\, Challenges\, and NGO Involvement” scheduled for 14 May 2025\, from 18:00 to 20:00 at Banque de Luxembourg\, Auditorium (14\, Boulevard Royal L-2449 Luxembourg). \nThe discussion aims to address practical challenges\, international standards\, and the role of NGOs and governmental entities in medical evacuation scenarios. \nOur confirmed speakers include: \n\nMs. Yana Zinkevych\, Ukrainian Member of Parliament and founder of the volunteer medical battalion “Hospitallers”\nMr. Yuriy Matviyenko\, Oﬃcer of the Unmanned System Forces\nMs. Tilly Metz\, Member of the European Parliament\, Vice-Chair of the Committee on Public Health (online)\nMr. Claud\, Chief Warrant Officer\, Luxembourg Armed Forces\, Tactical Paramedic\, EUMAM-UA\nMr. David\, Chief Warrant Officer\, Luxembourg Armed Forces\, Tactical Paramedic\, EUMAM-UA\nMs. Sally Loos\, Senior Technical Officer. Section Chief\, Medical Office at NATO Support & Procurement Agency\n\nWe would be delighted by your presence and participation in this insightful discussion. \nRegistration: \nRegistration is mandatory to attend the event.\nPlease fill in the registration form using the button below. Your form submission will serve as confirmation of attendance. \nRegistration form\n \nFor any questions or assistance\, feel free to contact us at contact@lukraine.org.
URL:https://lukraine.org/event/medical-evacuation-in-conflict-zones-realities-challenges-and-ngo-involvement/
END:VEVENT
END:VCALENDAR