BEGIN:VCALENDAR
VERSION:2.0
PRODID:-//LUkraine ASBL - Rebuild People to Rebuild Ukraine - ECPv6.15.20//NONSGML v1.0//EN
CALSCALE:GREGORIAN
METHOD:PUBLISH
X-ORIGINAL-URL:https://lukraine.org
X-WR-CALDESC:Events for LUkraine ASBL - Rebuild People to Rebuild Ukraine
REFRESH-INTERVAL;VALUE=DURATION:PT1H
X-Robots-Tag:noindex
X-PUBLISHED-TTL:PT1H
BEGIN:VTIMEZONE
TZID:Europe/Luxembourg
BEGIN:DAYLIGHT
TZOFFSETFROM:+0100
TZOFFSETTO:+0200
TZNAME:CEST
DTSTART:20240331T010000
END:DAYLIGHT
BEGIN:STANDARD
TZOFFSETFROM:+0200
TZOFFSETTO:+0100
TZNAME:CET
DTSTART:20241027T010000
END:STANDARD
BEGIN:DAYLIGHT
TZOFFSETFROM:+0100
TZOFFSETTO:+0200
TZNAME:CEST
DTSTART:20250330T010000
END:DAYLIGHT
BEGIN:STANDARD
TZOFFSETFROM:+0200
TZOFFSETTO:+0100
TZNAME:CET
DTSTART:20251026T010000
END:STANDARD
BEGIN:DAYLIGHT
TZOFFSETFROM:+0100
TZOFFSETTO:+0200
TZNAME:CEST
DTSTART:20260329T010000
END:DAYLIGHT
BEGIN:STANDARD
TZOFFSETFROM:+0200
TZOFFSETTO:+0100
TZNAME:CET
DTSTART:20261025T010000
END:STANDARD
END:VTIMEZONE
BEGIN:VEVENT
DTSTART;TZID=Europe/Luxembourg:20250419T143000
DTEND;TZID=Europe/Luxembourg:20250419T160000
DTSTAMP:20260423T191426
CREATED:20260131T082707Z
LAST-MODIFIED:20260131T082707Z
UID:10000077-1745073000-1745078400@lukraine.org
SUMMARY:March pour la Paix
DESCRIPTION:Yes to a Luxembourg committed as a peace maker\nThe Friddens- a Solidaritéitsplattform has issued a call to civil society for this year’s Easter walk\, which will take place on April 19 in Luxembourg-Ville. Departure at 3 pm Kinnekswiss.\nIn line with our call to civil society\, we wish to update our thoughts on peace and war. \nWe want to do this in 4 social media posts: \n\nYes to peace\nYes to resistance against nuclear weapons worldwide\nYes to the capacity of peace\, not to the capacity of war\nYes to a Luxembourg that commits itself as a peace maker
URL:https://lukraine.org/event/march-pour-la-paix/
ATTACH;FMTTYPE=image/jpeg:https://lukraine.org/wp-content/uploads/2026/01/485179233_1192853959554220_978959832966181281_n-m9hwwq.jpg
END:VEVENT
BEGIN:VEVENT
DTSTART;TZID=Europe/Luxembourg:20250423T190000
DTEND;TZID=Europe/Luxembourg:20250423T203000
DTSTAMP:20260423T191426
CREATED:20260131T082705Z
LAST-MODIFIED:20260131T082705Z
UID:10000076-1745434800-1745440200@lukraine.org
SUMMARY:Book presentation - A Special Literary Event
DESCRIPTION:LUkraine asbl and the College of Alderman of the Commune Bettembourgcordially invite you to the Book presentation: \nКарусель Одеси \n  \nThe Book is a Ukrainian translation of the original book Das Karussell von Odessawritten by a Luxembourgish author Pit Hoerold\, artwork by Fern’ Rollinger\, translation by Yevgeniya Inozemtseva\, editing by Iryna Skrypak. \nThis creative collaboration is a sign of support\, solidarity and cultural connections between Ukraine and Luxembourg. The Book presentation is part of the Festival LiteraTour of the city of Bettemburg. \nDate: 23 April 2025 \nTime: 7 pm \nLocation: KulTourhaus Hunchereng\, 8\, rue de l’Ecole L-3341 Huncherange \nWe would be honored by your presence at this Literary event where you will have the opportunity to meet the Author\, and all the Creative Team who worked on this project as well as hear readings from the Book. \nRSVP before 21 April 2025 \nTo confirm your attendance please send us a quick response to inscription@bettembourg.lu
URL:https://lukraine.org/event/book-presentation-a-special-literary-event/
ATTACH;FMTTYPE=image/png:https://lukraine.org/wp-content/uploads/2026/01/invit-23avril_180325-final-1-1-uswhwp-scaled.png
END:VEVENT
BEGIN:VEVENT
DTSTART;TZID=Europe/Luxembourg:20250425T190000
DTEND;TZID=Europe/Luxembourg:20250425T220000
DTSTAMP:20260423T191426
CREATED:20260131T082701Z
LAST-MODIFIED:20260131T082701Z
UID:10000074-1745607600-1745618400@lukraine.org
SUMMARY:EUROVISION Preview Night Luxembourg
DESCRIPTION:Wéini: 25 APRIL 2025 – 19:00\nWou: HAL FROUNERT 10\, RUE DE LA LAITERIE L-7783 BISSEN\nFREE ENTRY / ENTRÉE GRATUITE\n19:30 LIVE SHOWS\n20:30 VIDEO PREVIEWS \nLIVE PERFORMANCE OF:\n– LAURA THORN\n– ZERO POINT FIVE\n– LUZAC\n– RHYTMIC SOULWAVE\n– ONE LAST TIME\n– MÄNA\n– RAFA ELA
URL:https://lukraine.org/event/eurovision-preview-night-luxembourg/
ATTACH;FMTTYPE=image/jpeg:https://lukraine.org/wp-content/uploads/2026/01/486249494_967321668910360_2748846909180822852_n-7vyhdp.jpg
END:VEVENT
BEGIN:VEVENT
DTSTART;TZID=Europe/Luxembourg:20250429T190000
DTEND;TZID=Europe/Luxembourg:20250429T210000
DTSTAMP:20260423T191426
CREATED:20260131T082708Z
LAST-MODIFIED:20260131T082708Z
UID:10000078-1745953200-1745960400@lukraine.org
SUMMARY:War Correspondent - special charity screening & debate
DESCRIPTION:🎬 Don’t miss the special charity screening of WAR CORRESPONDENT\, a gripping Czech documentary by David Čálek and Benjamin Tuček\, followed by a round-table! \nThe event is co-organised by CinEast and the Czech Embassy in Luxembourg in partnership with LUkraine asbl. \n🎙️ Special guests: The film’s protagonist\, Martin Dorazín\, will honor us with his presence at the screening. He will be joined by the film’s producer\, Václav Flegl\, along with several guests from Luxembourg\, for a panel discussion about the film\, the work of a war reporter\, and the current situation in Ukraine. The session will be moderated by Philippe Schockweiler – journalist and independent producer. \n💣 Synopsis: Through the eyes of seasoned war reporter Martin Dorazín\, this film takes you to the front lines of Ukraine\, where the battle is not just over territory – every village and house – but also over the accuracy of every report and the truth itself. With raw\, deeply human storytelling\, it sheds light on the resilience of those living through war – and the journalists risking their lives to bring their stories to the world. \n💛💙 Charity: All the benefits from this event will support our #CinEast4Ukraine charity project. Additional donations are welcome and much appreciated! \n  \nTickets
URL:https://lukraine.org/event/war-correspondent-special-charity-screening-debate/
ATTACH;FMTTYPE=image/jpeg:https://lukraine.org/wp-content/uploads/2026/01/489720243_1233499645452020_3792074233925808885_n-p1mkku.jpg
END:VEVENT
BEGIN:VEVENT
DTSTART;TZID=Europe/Luxembourg:20250430T160000
DTEND;TZID=Europe/Luxembourg:20250514T160000
DTSTAMP:20260423T191426
CREATED:20260131T082713Z
LAST-MODIFIED:20260131T082713Z
UID:10000082-1746028800-1747238400@lukraine.org
SUMMARY:TIMESTAMP by Kateryna Gornostai І  Іn Luxembourg Сinemas
DESCRIPTION:The documentary TIMESTAMP by Ukrainian director Kateryna Gornostai\, selected for the official competition at the most recent Berlinale\, will be released in Luxembourg cinemas starting April 30.\n\nScreenings will take place at the following venues:\n Tickets available at:\n UTOPIA: https://kinepolis.lu/…/detail/35634/HO00007250/0/timestamp KINEPOLIS BELVAL: https://kinepolis.lu/…/detail/35634/HO00007250/0/timestamp KULTURHUEF: https://tickets.kulturhuef.lu/de/movies/view/timestamp CINÉ PRABBELI: https://tickets.prabbeli.lu/de/movies/view/timestamp CINÉ SURA: https://www.cinextdoor.lu/projects/cin%C3%A9-sura CINÉ ORION: https://orion.lu/fr/movies/view/timestamp CINÉ STARLIGHT: https://tickets.cinestarlight.lu/de/movies/view/timestamp CINÉ LE PARIS: https://leparis.lu/fr/movies/view/timestamp KINOLER: https://kinoler.lu/fr/movies/view/timestamp\n\nTIMESTAMP is produced by 2Brave Productions (Ukraine) and co-produced by a_BAHN (Luxembourg)\, Rinkel Film BV (Netherlands)\, and Cinephage Productions (France) as associate producer.\nThe concept was developed by the Ukrainian educational organization Osvitoria\, which also served as the executive producer.\nWe invite the Ukrainian community and all film enthusiasts to watch this powerful documentary!
URL:https://lukraine.org/event/timestamp-by-kateryna-gornostai-i-in-luxembourg-sinemas/
ATTACH;FMTTYPE=image/jpeg:https://lukraine.org/wp-content/uploads/2026/01/494408833_1083320610498888_7502480996919883249_n-sc1eqx.jpg
END:VEVENT
END:VCALENDAR