BEGIN:VCALENDAR
VERSION:2.0
PRODID:-//LUkraine ASBL - Rebuild People to Rebuild Ukraine - ECPv6.15.20//NONSGML v1.0//EN
CALSCALE:GREGORIAN
METHOD:PUBLISH
X-WR-CALNAME:LUkraine ASBL - Rebuild People to Rebuild Ukraine
X-ORIGINAL-URL:https://lukraine.org
X-WR-CALDESC:Events for LUkraine ASBL - Rebuild People to Rebuild Ukraine
REFRESH-INTERVAL;VALUE=DURATION:PT1H
X-Robots-Tag:noindex
X-PUBLISHED-TTL:PT1H
BEGIN:VTIMEZONE
TZID:Europe/Luxembourg
BEGIN:DAYLIGHT
TZOFFSETFROM:+0100
TZOFFSETTO:+0200
TZNAME:CEST
DTSTART:20250330T010000
END:DAYLIGHT
BEGIN:STANDARD
TZOFFSETFROM:+0200
TZOFFSETTO:+0100
TZNAME:CET
DTSTART:20251026T010000
END:STANDARD
BEGIN:DAYLIGHT
TZOFFSETFROM:+0100
TZOFFSETTO:+0200
TZNAME:CEST
DTSTART:20260329T010000
END:DAYLIGHT
BEGIN:STANDARD
TZOFFSETFROM:+0200
TZOFFSETTO:+0100
TZNAME:CET
DTSTART:20261025T010000
END:STANDARD
BEGIN:DAYLIGHT
TZOFFSETFROM:+0100
TZOFFSETTO:+0200
TZNAME:CEST
DTSTART:20270328T010000
END:DAYLIGHT
BEGIN:STANDARD
TZOFFSETFROM:+0200
TZOFFSETTO:+0100
TZNAME:CET
DTSTART:20271031T010000
END:STANDARD
END:VTIMEZONE
BEGIN:VEVENT
DTSTART;TZID=Europe/Luxembourg:20260317T140000
DTEND;TZID=Europe/Luxembourg:20260317T150000
DTSTAMP:20260420T024925
CREATED:20260316T144435Z
LAST-MODIFIED:20260327T104012Z
UID:10000098-1773756000-1773759600@lukraine.org
SUMMARY:Press conference: Launch of the Advocacy Coalition – Defending Our Future Now
DESCRIPTION:LUkraine asbl\, together with an alliance of nine partner Embassies resident in Luxembourg — the Embassies of Belgium\, the Czech Republic\, France\, Germany\, Ireland\, the Netherlands\, Poland\, Romania\, and the United Kingdom — and with the support of the European Commission in Luxembourg and the Embassy of Ukraine in Belgium and Luxembourg\, officially announces the launch of the Advocacy Coalition – Defending Our Future Now. \nThis year-long initiative is not charity — it is a strategic investment in European security. \nThroughout 2026\, the Coalition will host a series of monthly events addressing key themes such as countering disinformation and hybrid threats\, strengthening resilience\, supporting Ukraine’s reconstruction\, and amplifying the role of Ukrainian communities in Europe. \nAs part of the initiative\, the Embassy of the Czech Republic will co-host the year-long exhibition “How to Destroy a Country.” The exhibition reveals the systematic tactics used to undermine sovereignty — from child abduction and identity erasure to disinformation and institutional manipulation. It serves as both a warning and a call to action. \nAt the heart of the project is also the Advocacy Platform — a digital space amplifying authentic voices and testimonies that explain why supporting Ukraine matters. \nThis is a coordinated effort to safeguard democratic values in Europe. \nWe invite institutions\, media representatives\, community leaders\, and citizens to engage with the initiative\, participate in its events\, and contribute to strengthening peace\, accountability\, and resilience across Europe. \n🛡️ Defend Our Future Now.
URL:https://lukraine.org/event/launch-of-the-advocacy-coalition-defending-our-future-now/
ATTACH;FMTTYPE=image/png:https://lukraine.org/wp-content/uploads/2026/03/banner_fb-scaled.png
END:VEVENT
BEGIN:VEVENT
DTSTART;TZID=Europe/Luxembourg:20260323T140000
DTEND;TZID=Europe/Luxembourg:20260323T180000
DTSTAMP:20260420T024925
CREATED:20260327T103411Z
LAST-MODIFIED:20260327T104654Z
UID:10000101-1774274400-1774288800@lukraine.org
SUMMARY:Advocacy Coalition Launch Event: The Abduction of Ukrainian Children
DESCRIPTION:23 March marked the launch of our new advocacy project — Advocacy Coalition: Defending Our Future Now.\n\nWe held our first public event — a debate dedicated to one of the most devastating consequences of Russia’s war: the abduction of Ukrainian children.\n\n\n\nThe discussion brought together representatives of European institutions\, civil society\, and Ukrainian voices to raise awareness and call for action.\n\n\n\n\n\nThe event opened with the official greetings from:\n\n\n\nH.E. Barbara Karpetová\, Ambassador of the Czech Republic\nInna Yaremenko\, Vice President of LUkraine and Ombudsperson for Ukrainians in Luxembourg\n\n\n\n\n\nA powerful video address by Dmytro Lubinets\, Ukrainian Parliament Commissioner for Human Rights\, Office of the Ombudsman of Ukraine set the tone by outlining the scale and systematic nature of child deportations.\n\n\n\n\n\nOne of the most emotional moments was the testimony of Kseniia-Anastasiia (19 y.o) — a young Ukrainian who was abducted by Russia. Her story gave a human face to this crime and deeply resonated with the audience.\n\n\n\n\n\n\n\nThe keynote speech by Oleksandra Matviichuk\, Nobel Peace Prize laureate and human rights defender\, highlighted the legal and humanitarian dimensions of these crimes and the urgent need for international response.\n\n\n\n\n\n\n\nThe event continued with a high-level panel discussion featuring:\n\n\n\nClaude Wiseler\, President of Chambre des Députés Grand-Duché de Luxembourg\nMarc ANGEL\, Member of European Parliament\nAnne Calteux\, Head of Commission européenne au Luxembourg\n\n\n\nThis first event set a strong foundation for our Advocacy Coalition — bringing the issue of abducted Ukrainian children to the center of European attention.\n\n\n\n Follow our activities to stay updated — this project will continue throughout the year with a series of events and initiatives: https://advocacy.lukraine.org\n\n\n\n\n\n We also invite you to visit the “Empty Beds” exhibition at the European Parliament\, open until April 17.
URL:https://lukraine.org/event/23-march-marked-the-launch-of-our-new-advocacy-project-advocacy-coalition-defending-our-future-now/
LOCATION:Europian Parliament\, 2 Pl. de l'Europe\, Kirchberg\, Luxembourg\, 1499\, Luxembourg
ATTACH;FMTTYPE=image/jpeg:https://lukraine.org/wp-content/uploads/2026/03/658765070_1355304073300539_5026190440268629273_n.jpg
END:VEVENT
BEGIN:VEVENT
DTSTART;TZID=Europe/Luxembourg:20260323T150000
DTEND;TZID=Europe/Luxembourg:20260412T170000
DTSTAMP:20260420T024925
CREATED:20260316T153504Z
LAST-MODIFIED:20260316T153504Z
UID:10000099-1774278000-1776013200@lukraine.org
SUMMARY:Installation “Empty Beds”
DESCRIPTION:“Empty Beds” is an immersive installation that brings visitors closer to the human reality of the war in Ukraine.Created as a hyper-realistic reconstruction of a deported Ukrainian child’s bedroom\, the installation transforms statistics into a personal experience. More than twenty thousand Ukrainian children have been illegally taken from their homes\, and behind every number is a family waiting\, a room left untouched\, and a future interrupted. \nThe installation recreates a child’s room at a 1:1 scale\, allowing visitors to step into a space filled with silence\, memory\, and absence. Through everyday objects\, photographs\, and personal details\, the exhibition invites viewers to understand what it means to lose home\, childhood\, and the right to grow up in one’s own country. “Empty Beds” was created by the charitable organisation Bird of Light Ukraine to raise international awareness about the deportation of Ukrainian children and to turn a global statistic into a physical reality that cannot be ignored. \nThe installation is presented within the framework of Advocacy Coalition — Defending Our Future Now\, an international project uniting embassies\, institutions\, and civil society to strengthen solidarity with Ukraine and to defend shared democratic values. Through exhibitions\, discussions\, and public events\, the project seeks to make the human dimension of the war visible\, personal\, and impossible to overlook. \nThe deportation of Ukrainian children is not only a humanitarian tragedy. It is an attempt to destroy identity\, memory\, and the future of a nation. By entering the space of this room\, visitors are invited not only to observe\, but to reflect\, to feel\, and to act. Awareness leads to responsibility. Responsibility leads to action. \nThe installation was created by Bird of Light Ukraine and presented as part of the Advocacy Coalition project\, in cooperation with diplomatic and institutional partners.
URL:https://lukraine.org/event/installation-empty-beds/
LOCATION:Europian Parliament\, 2 Pl. de l'Europe\, Kirchberg\, Luxembourg\, 1499\, Luxembourg
ATTACH;FMTTYPE=image/png:https://lukraine.org/wp-content/uploads/2026/03/940x788eb2.png
END:VEVENT
BEGIN:VEVENT
DTSTART;TZID=Europe/Luxembourg:20260324T080000
DTEND;TZID=Europe/Luxembourg:20260524T170000
DTSTAMP:20260420T024925
CREATED:20260316T155341Z
LAST-MODIFIED:20260316T155341Z
UID:10000100-1774339200-1779642000@lukraine.org
SUMMARY:Photo Exhibition “Lost Childhood”
DESCRIPTION:“Lost Childhood” is a documentary photo exhibition dedicated to the children of Ukraine whose childhood has been taken away by war\, deportation\, and forced displacement. The exhibition is currently presented on the fence of the Embassy of the Czech Republic in Luxembourg\, as part of the public exhibition programme of the Advocacy Coalition — Defending Our Future Now initiative. \nThe exhibition features photographs inspired by the work of Ukrainian photographer Roman Pashkovskyi\, showing the eyes of children who survived occupation\, deportation\, and captivity. Their gaze reflects experiences far beyond their years. What should have been a time of play\, safety\, and growth was replaced by loss\, fear\, and separation. The images remind us that behind every statistic there is a real child\, a real family\, and a life changed forever.   \nThis exhibition is part of the international effort to raise awareness about the illegal deportation and forced transfer of Ukrainian children by the Russian Federation\, a crime documented by Ukrainian authorities and international organisations. Thousands of children have been taken from their homes\, placed in institutions\, or subjected to ideological pressure intended to erase their identity. The loss of childhood is not only a personal tragedy\, but also an attack on the future of a nation.   \n“Lost Childhood” was created within the framework of the Bring Kids Back UA initiative\, launched to support the return of deported and forcibly displaced Ukrainian children and to inform the international community about this ongoing crime. The exhibition transforms facts and numbers into human stories\, making the consequences of the war visible in the most personal way.   \nThe exhibition was officially opened on March 24 in Luxembourg and will remain on display for approximately two months\, after which the panels will be replaced by the next chapter of the year-long outdoor exhibition How to Destroy a Country\, presented by the Advocacy Coalition. Each chapter reveals a different aspect of the war against Ukraine and its impact on people\, identity\, and democratic values. \nBy bringing these stories into public space\, the exhibition invites visitors not only to look\, but to understand\, to remember\, and to take responsibility. Every lost childhood is a warning. Every story is a call to action.
URL:https://lukraine.org/event/photo-exhibition-lost-childhood/
LOCATION:Embassy of the Czech Republic\, 2 Rond-point Robert Schuman\, Ville-Haute Luxembourg\, 2525\, Luxembourg
ATTACH;FMTTYPE=image/png:https://lukraine.org/wp-content/uploads/2026/03/940x788panel.png
END:VEVENT
BEGIN:VEVENT
DTSTART;TZID=Europe/Luxembourg:20260415T144500
DTEND;TZID=Europe/Luxembourg:20260415T183000
DTSTAMP:20260420T024925
CREATED:20260401T082444Z
LAST-MODIFIED:20260410T105559Z
UID:10000102-1776264300-1776277800@lukraine.org
SUMMARY:Conference: Disinformation as a Threat to Democracy and Peace in Europe
DESCRIPTION:As part of the Advocacy Coalition – Defending Our Future Now\, the Embassy of Romania and the Embassy of Poland in Luxembourg\, in cooperation with European partners\, is organizing a high-level conference dedicated to one of the most pressing challenges facing Europe today — disinformation as a tool of hybrid warfare. \nThe event will bring together representatives of European institutions\, academia\, and international experts to explore the impact of disinformation on democratic systems\, as well as practical strategies to counter it. \nKey Topics\n\nDisinformation as a weapon in Russia’s war against Ukraine\nCognitive warfare and election interference in Europe\nStrategic communication and EU-level responses\nLegal and policy tools to counter foreign information manipulation\n\n  \nProgramme Highlights\n  \nThe conference will feature two expert panels: \nPanel 1: Disinformation — Facts and Impact \nFocused on understanding how disinformation operates as part of hybrid warfare and its real consequences for societies and democratic institutions. \nPanel 2: Countering Disinformation \nFocused on solutions\, including EU strategies\, national approaches\, and communication tools to strengthen resilience against manipulation. \n  \nSpeakers\nAmong the speakers are: \n\nH.E. Ambassador Livia Rusu\, Embassy of Romania\nH.E. Mr. Rafał Hykawy\, Chargé d’affaires a.i.\, Embassy of Poland\nH.E. Ambassador Yaroslav Melnyk\, Embassy of Ukraine for Belgium and Luxembourg\nH.E. Mr. Pascal Steichen\, Chair of the Governing Board of the European Cybersecurity Competence Centre and Network\nProf. Marie – Hélène Jobin\, Vice Rector for Partnerships and International Relations\, University of Luxemburg\nMr. Roman Osadchuk\, Director of Threat Intelligence at LetsData\, Non-resident fellow at DFRLab\, Senior Lecturer at NaUKMA\nProf. Dr. Alina Bârgăoanu\, Dean of the Faculty of Communication and Public Relations of SNSPA\, President of the Board of the European Institute of Romania\nMrs. Aleksandra Wójtowicz\, disinformation/FIMI analyst\, Polish Institute of International Affairs – PISM\nH.E. Mrs. Anne Calteux\, Representative of the European Commission in Luxembourg\,\nMrs. Magdalena Wilczyńska\, Director of the Division for Information Protection of Cyberspace\, National Research Institute for Cybersecurity – NASK\nProf. Mark Cole\, University of Luxemburg\n\nModerator: Philippe Schockweiler\, journalist \n  \nFormat\n\nWelcome and opening remarks by diplomatic representatives\nTwo high-level panel discussions\nQ&A sessions\nNetworking cocktail\n\n  \nThis event is part of the Advocacy Coalition series of events\, aimed at strengthening European awareness\, resilience\, and coordinated response to the challenges posed by Russia’s war against Ukraine and its broader impact on European security. \n  \nTo register\, please contact eventsamblu@gmail.com(subject to availability\, which is currently quite limited).
URL:https://lukraine.org/event/conference-disinformation-as-a-threat-to-democracy-and-peace-in-europe/
LOCATION:University of Luxembourg\, Kirchberg Campus\, 4 rue Alphonse Weicker\, Luxembourg\, 2721\, Luxembourg
ATTACH;FMTTYPE=image/png:https://lukraine.org/wp-content/uploads/2026/04/weicker-michel-brumat-1.png
END:VEVENT
BEGIN:VEVENT
DTSTART;TZID=Europe/Luxembourg:20260510T110000
DTEND;TZID=Europe/Luxembourg:20260510T170000
DTSTAMP:20260420T024925
CREATED:20260417T095750Z
LAST-MODIFIED:20260417T095750Z
UID:10000103-1778410800-1778432400@lukraine.org
SUMMARY:LUkraine asbl at Europe Day 2026 | Defending our future now
DESCRIPTION:Join us in celebrating 30 years of Europe Day in Luxembourg at Wiltz Castle on 10 May — a day dedicated to unity\, diversity\, and shared European values. \nEurope is built on shared values — freedom\, democracy\, and the rule of law. \nToday\, these foundations are being tested by war\, disinformation\, and hybrid threats. Ukraine stands at the frontline of this reality. \nAt our stand\, LUkraine asbl will present the work of the Advocacy Community — an initiative that brings together people\, institutions\, and knowledge to strengthen resilience within European societies. \n\n📍 Wiltz Castle\n🗓 10 May 2026\n🕚 From 11:00\n\nWe invite you to visit our stand to learn more about our latest advocacy and cultural projects\, take part in an engaging quiz\, and take home a small piece of Ukrainian culture — and much more. \nCome meet us\, connect\, and be part of the conversation. \nBecause supporting Ukraine means investing in the future of Europe.
URL:https://lukraine.org/event/lukraine-asbl-at-europe-day-2026-defending-our-future-now/
LOCATION:Wiltz Castle\, Luxembourg
ATTACH;FMTTYPE=image/jpeg:https://lukraine.org/wp-content/uploads/2026/04/672341073_1372974844866795_5342431903917549217_n.jpg
END:VEVENT
END:VCALENDAR