BEGIN:VCALENDAR
VERSION:2.0
PRODID:-//LUkraine ASBL - Rebuild People to Rebuild Ukraine - ECPv6.15.20//NONSGML v1.0//EN
CALSCALE:GREGORIAN
METHOD:PUBLISH
X-WR-CALNAME:LUkraine ASBL - Rebuild People to Rebuild Ukraine
X-ORIGINAL-URL:https://lukraine.org
X-WR-CALDESC:Events for LUkraine ASBL - Rebuild People to Rebuild Ukraine
REFRESH-INTERVAL;VALUE=DURATION:PT1H
X-Robots-Tag:noindex
X-PUBLISHED-TTL:PT1H
BEGIN:VTIMEZONE
TZID:Europe/Luxembourg
BEGIN:DAYLIGHT
TZOFFSETFROM:+0100
TZOFFSETTO:+0200
TZNAME:CEST
DTSTART:20250330T010000
END:DAYLIGHT
BEGIN:STANDARD
TZOFFSETFROM:+0200
TZOFFSETTO:+0100
TZNAME:CET
DTSTART:20251026T010000
END:STANDARD
BEGIN:DAYLIGHT
TZOFFSETFROM:+0100
TZOFFSETTO:+0200
TZNAME:CEST
DTSTART:20260329T010000
END:DAYLIGHT
BEGIN:STANDARD
TZOFFSETFROM:+0200
TZOFFSETTO:+0100
TZNAME:CET
DTSTART:20261025T010000
END:STANDARD
BEGIN:DAYLIGHT
TZOFFSETFROM:+0100
TZOFFSETTO:+0200
TZNAME:CEST
DTSTART:20270328T010000
END:DAYLIGHT
BEGIN:STANDARD
TZOFFSETFROM:+0200
TZOFFSETTO:+0100
TZNAME:CET
DTSTART:20271031T010000
END:STANDARD
END:VTIMEZONE
BEGIN:VEVENT
DTSTART;TZID=Europe/Luxembourg:20260224T184500
DTEND;TZID=Europe/Luxembourg:20260224T200000
DTSTAMP:20260419T175308
CREATED:20260129T123639Z
LAST-MODIFIED:20260131T123821Z
UID:10000097-1771958700-1771963200@lukraine.org
SUMMARY:2000 Meters to Andriivka: charity screening to mark 4 years of full-scale invasion
DESCRIPTION:The special charity screening of the Ukrainian film 2000 METERS TO ANDRIIVKA by the Academy Award winner Mstyslav Chernov (OV with English subtitles) will take place on Tue. 24 February at 18.45 at Ciné Utopia. \nThe screening commemorates the 4th anniversary of the full-scale invasion of Ukraine and will be followed by a discussion. \nIt is co-organised by CinEast festival and LUkraine asbl with the support from the European Commission Representation in Luxembourg. \nCharity project: a majority of income from the tickets will be transferred to the CinEast4Ukraine charity project. Additional donations are possible and very appreciated.
URL:https://lukraine.org/event/2000-meters-to-andriivka-charity-screening-to-mark-4-years-of-full-scale-invasion/
LOCATION:Ciné Utopia\, 16 Av. de la Faiencerie\, Limpertsberg\, 1510\, Luxembourg
ATTACH;FMTTYPE=image/jpeg:https://lukraine.org/wp-content/uploads/2026/01/andriivka-event.jpg
END:VEVENT
END:VCALENDAR