BEGIN:VCALENDAR
VERSION:2.0
PRODID:-//LUkraine ASBL - Rebuild People to Rebuild Ukraine - ECPv6.15.20//NONSGML v1.0//EN
CALSCALE:GREGORIAN
METHOD:PUBLISH
X-ORIGINAL-URL:https://lukraine.org
X-WR-CALDESC:Events for LUkraine ASBL - Rebuild People to Rebuild Ukraine
REFRESH-INTERVAL;VALUE=DURATION:PT1H
X-Robots-Tag:noindex
X-PUBLISHED-TTL:PT1H
BEGIN:VTIMEZONE
TZID:Europe/Luxembourg
BEGIN:DAYLIGHT
TZOFFSETFROM:+0100
TZOFFSETTO:+0200
TZNAME:CEST
DTSTART:20240331T010000
END:DAYLIGHT
BEGIN:STANDARD
TZOFFSETFROM:+0200
TZOFFSETTO:+0100
TZNAME:CET
DTSTART:20241027T010000
END:STANDARD
BEGIN:DAYLIGHT
TZOFFSETFROM:+0100
TZOFFSETTO:+0200
TZNAME:CEST
DTSTART:20250330T010000
END:DAYLIGHT
BEGIN:STANDARD
TZOFFSETFROM:+0200
TZOFFSETTO:+0100
TZNAME:CET
DTSTART:20251026T010000
END:STANDARD
BEGIN:DAYLIGHT
TZOFFSETFROM:+0100
TZOFFSETTO:+0200
TZNAME:CEST
DTSTART:20260329T010000
END:DAYLIGHT
BEGIN:STANDARD
TZOFFSETFROM:+0200
TZOFFSETTO:+0100
TZNAME:CET
DTSTART:20261025T010000
END:STANDARD
END:VTIMEZONE
BEGIN:VEVENT
DTSTART;TZID=Europe/Luxembourg:20251011T190000
DTEND;TZID=Europe/Luxembourg:20251011T230000
DTSTAMP:20260423T114508
CREATED:20250911T113127Z
LAST-MODIFIED:20260131T123238Z
UID:10000094-1760209200-1760223600@lukraine.org
SUMMARY:“My Dear Théo” & Debate on Ukraine
DESCRIPTION:Join us for a moving evening that blends cinema and civic dialogue. \nThe event begins with the screening of the documentary My Dear Théo by Ukrainian filmmaker Alisa Kovalenko\, who will personally present the film and take part in a Q&A session with the audience. \nIn My Dear Théo\, Kovalenko—both a mother and a volunteer on the front line—creates intimate video diaries and poetic letters to her five-year-old son\, Théo\, from the battlefield. Filmed during her service in the Ukrainian Volunteer Army following Russia’s full-scale invasion in 2022\, the documentary captures the devastating reality of war\, the chaos of conflict\, and the quiet strength born of camaraderie among soldiers. These raw images are interwoven with reflections on motherhood\, duty\, and the enduring bond that survives even in the darkest times. \n The evening continues with a debate on the situation in Ukraine\, moderated by Luxembourgish journalist Philippe Shockweiler. \n📅 Date: October 11\, 2025 \n🕖 Time: 19:00 – 23:00 \n📍 Venue: Centre Culturel de Rencontre Abbaye de Neumünster\, Rue Münster\, L-2160 Luxembourg \n💶 Tickets: €10 – €45
URL:https://lukraine.org/event/my-dear-theo-debate-on-ukraine/
LOCATION:Centre Culturel de Rencontre Abbaye de Neumünster\, Rue Münster\, L-2160 Luxembourg
ATTACH;FMTTYPE=image/jpeg:https://lukraine.org/wp-content/uploads/2026/01/media_my_dear_theo_web_02_main.jpg
END:VEVENT
END:VCALENDAR