BEGIN:VCALENDAR
VERSION:2.0
PRODID:-//LUkraine ASBL - Rebuild People to Rebuild Ukraine - ECPv6.15.20//NONSGML v1.0//EN
CALSCALE:GREGORIAN
METHOD:PUBLISH
X-WR-CALNAME:LUkraine ASBL - Rebuild People to Rebuild Ukraine
X-ORIGINAL-URL:https://lukraine.org
X-WR-CALDESC:Events for LUkraine ASBL - Rebuild People to Rebuild Ukraine
REFRESH-INTERVAL;VALUE=DURATION:PT1H
X-Robots-Tag:noindex
X-PUBLISHED-TTL:PT1H
BEGIN:VTIMEZONE
TZID:Europe/Luxembourg
BEGIN:DAYLIGHT
TZOFFSETFROM:+0100
TZOFFSETTO:+0200
TZNAME:CEST
DTSTART:20240331T010000
END:DAYLIGHT
BEGIN:STANDARD
TZOFFSETFROM:+0200
TZOFFSETTO:+0100
TZNAME:CET
DTSTART:20241027T010000
END:STANDARD
BEGIN:DAYLIGHT
TZOFFSETFROM:+0100
TZOFFSETTO:+0200
TZNAME:CEST
DTSTART:20250330T010000
END:DAYLIGHT
BEGIN:STANDARD
TZOFFSETFROM:+0200
TZOFFSETTO:+0100
TZNAME:CET
DTSTART:20251026T010000
END:STANDARD
BEGIN:DAYLIGHT
TZOFFSETFROM:+0100
TZOFFSETTO:+0200
TZNAME:CEST
DTSTART:20260329T010000
END:DAYLIGHT
BEGIN:STANDARD
TZOFFSETFROM:+0200
TZOFFSETTO:+0100
TZNAME:CET
DTSTART:20261025T010000
END:STANDARD
END:VTIMEZONE
BEGIN:VEVENT
DTSTART;TZID=Europe/Luxembourg:20251003T180000
DTEND;TZID=Europe/Luxembourg:20251003T200000
DTSTAMP:20260423T114508
CREATED:20250911T112905Z
LAST-MODIFIED:20260131T123039Z
UID:10000093-1759514400-1759521600@lukraine.org
SUMMARY:Book Presentation & Conversation with Iryna Skrypak
DESCRIPTION:Dear friends\, readers\, and future readers\, \nWe warmly invite you to a special evening dedicated to the book “Meditations on Solitude and Love” by Ukrainian author Iryna Skrypak. The book is available in both Ukrainian and English. \nDuring the event\, you will discover: \n\nthe author’s journey and her secrets of finding inspiration and love\,\nthe story behind the book and the birth of her poems\,\ncreative advice for aspiring writers\,\ninsights into the professional publishing process: from preparing texts and building a team to finding a publisher and promoting a book\,\nanswers to your questions in the context of this unique presentation.\n\n  \nProgram highlights: \n\nengaging conversation about the book\,\nautograph session\,\nphoto opportunity with participants.\n\n  \n📅 Date: October 3\, 2025 \n🕕 Time: 18:00 \n📍 Venue: Ukrainian Library\, 276 Rue de Rollingergrund\, L-2441 Luxembourg \nJoin us for an inspiring literary evening filled with warmth\, creativity\, and heartfelt dialogue.
URL:https://lukraine.org/event/book-presentation-conversation-with-iryna-skrypak/
LOCATION:276 Rue de Rollingergrund\, L-2441 Luxembourg\, Luxembourg
ATTACH;FMTTYPE=image/jpeg:https://lukraine.org/wp-content/uploads/2026/01/493513269_24199363346338093_4169988315316169805_n.jpg
END:VEVENT
END:VCALENDAR