BEGIN:VCALENDAR
VERSION:2.0
PRODID:-//LUkraine ASBL - Rebuild People to Rebuild Ukraine - ECPv6.15.20//NONSGML v1.0//EN
CALSCALE:GREGORIAN
METHOD:PUBLISH
X-WR-CALNAME:LUkraine ASBL - Rebuild People to Rebuild Ukraine
X-ORIGINAL-URL:https://lukraine.org
X-WR-CALDESC:Events for LUkraine ASBL - Rebuild People to Rebuild Ukraine
REFRESH-INTERVAL;VALUE=DURATION:PT1H
X-Robots-Tag:noindex
X-PUBLISHED-TTL:PT1H
BEGIN:VTIMEZONE
TZID:Europe/Helsinki
BEGIN:DAYLIGHT
TZOFFSETFROM:+0200
TZOFFSETTO:+0300
TZNAME:EEST
DTSTART:20240331T010000
END:DAYLIGHT
BEGIN:STANDARD
TZOFFSETFROM:+0300
TZOFFSETTO:+0200
TZNAME:EET
DTSTART:20241027T010000
END:STANDARD
BEGIN:DAYLIGHT
TZOFFSETFROM:+0200
TZOFFSETTO:+0300
TZNAME:EEST
DTSTART:20250330T010000
END:DAYLIGHT
BEGIN:STANDARD
TZOFFSETFROM:+0300
TZOFFSETTO:+0200
TZNAME:EET
DTSTART:20251026T010000
END:STANDARD
BEGIN:DAYLIGHT
TZOFFSETFROM:+0200
TZOFFSETTO:+0300
TZNAME:EEST
DTSTART:20260329T010000
END:DAYLIGHT
BEGIN:STANDARD
TZOFFSETFROM:+0300
TZOFFSETTO:+0200
TZNAME:EET
DTSTART:20261025T010000
END:STANDARD
END:VTIMEZONE
BEGIN:VEVENT
DTSTART;TZID=Europe/Helsinki:20250823T140000
DTEND;TZID=Europe/Helsinki:20250823T170000
DTSTAMP:20260423T143107
CREATED:20250805T112633Z
LAST-MODIFIED:20260131T122807Z
UID:10000092-1755957600-1755968400@lukraine.org
SUMMARY:🇺🇦 Join the Car Rally for Ukraine’s Defenders
DESCRIPTION:As Ukraine’s Independence Day approaches\, we invite you to join our car rally as part of our ongoing fundraising campaign to support Ukrainian defenders: \n📅 Date: Saturday\, August 23\n🕑 Start time: 14:00\n📍 Meeting point: Parking Boulevard Konrad Adenauer (1359 Kirchberg-Plateau\, Luxembourg)\n🚘Car registration fee: donation of €20 or more. \nIt’s a symbolic drive of unity and freedom — and a visible way to stand with those who protect it.\nIf you can’t attend\, you may join this initiative by donation: https://community.lukraine.org/project/independencerally \n⭐️ After the rally\, we’ll host an informal community gathering at Kiosque\, Kirchberg to celebrate Independence Day together — a chance to connect and unwind.\nLet’s celebrate Independence Day not only with tradition\, but with purpose. \nTogether\, we drive. Together\, we stand.
URL:https://lukraine.org/event/%f0%9f%87%ba%f0%9f%87%a6-join-the-car-rally-for-ukraines-defenders/
LOCATION:Parking Boulevard Konrad Adenauer\, Parking Boulevard Konrad Adenauer Kirchberg-Plateau\, Luxembourg\, 1359\, Luxembourg
ATTACH;FMTTYPE=image/png:https://lukraine.org/wp-content/uploads/2026/01/column1920x1080-scaled-1.png
END:VEVENT
END:VCALENDAR