BEGIN:VCALENDAR
VERSION:2.0
PRODID:-//LUkraine ASBL - Rebuild People to Rebuild Ukraine - ECPv6.15.20//NONSGML v1.0//EN
CALSCALE:GREGORIAN
METHOD:PUBLISH
X-WR-CALNAME:LUkraine ASBL - Rebuild People to Rebuild Ukraine
X-ORIGINAL-URL:https://lukraine.org
X-WR-CALDESC:Events for LUkraine ASBL - Rebuild People to Rebuild Ukraine
REFRESH-INTERVAL;VALUE=DURATION:PT1H
X-Robots-Tag:noindex
X-PUBLISHED-TTL:PT1H
BEGIN:VTIMEZONE
TZID:Europe/Helsinki
BEGIN:DAYLIGHT
TZOFFSETFROM:+0200
TZOFFSETTO:+0300
TZNAME:EEST
DTSTART:20240331T010000
END:DAYLIGHT
BEGIN:STANDARD
TZOFFSETFROM:+0300
TZOFFSETTO:+0200
TZNAME:EET
DTSTART:20241027T010000
END:STANDARD
BEGIN:DAYLIGHT
TZOFFSETFROM:+0200
TZOFFSETTO:+0300
TZNAME:EEST
DTSTART:20250330T010000
END:DAYLIGHT
BEGIN:STANDARD
TZOFFSETFROM:+0300
TZOFFSETTO:+0200
TZNAME:EET
DTSTART:20251026T010000
END:STANDARD
BEGIN:DAYLIGHT
TZOFFSETFROM:+0200
TZOFFSETTO:+0300
TZNAME:EEST
DTSTART:20260329T010000
END:DAYLIGHT
BEGIN:STANDARD
TZOFFSETFROM:+0300
TZOFFSETTO:+0200
TZNAME:EET
DTSTART:20261025T010000
END:STANDARD
END:VTIMEZONE
BEGIN:VEVENT
DTSTART;TZID=Europe/Helsinki:20250816T103000
DTEND;TZID=Europe/Helsinki:20250816T113000
DTSTAMP:20260423T143107
CREATED:20250807T112114Z
LAST-MODIFIED:20260131T122253Z
UID:10000091-1755340200-1755343800@lukraine.org
SUMMARY:Charity Yoga in the Park – Move for Ukraine’s Defenders
DESCRIPTION:Join a gentle\, beginner-friendly 1-hour yoga flow guided by certified instructor Yaryna\, and become part of our fundraising movement to purchase pickup trucks for 💛💙 Ukrainian defenders: https://community.lukraine.org/project/independencerally \n📅 August 16\, 10:30\n📍 Kinnekswiss Park\n⭐️ Suggested donation: €20+ \nWhether it’s your first time on the mat or you’re a long-time practitioner – you’re welcome here. Just bring a yoga mat or towel and wear comfy clothes – no experience or special gear needed.\nCan’t join in person? You can still support the cause – just donate online and mention “yoga” in the payment note so we know your support came through this initiative: https://community.lukraine.org/project/independencerally
URL:https://lukraine.org/event/charity-yoga-in-the-park-move-for-ukraines-defenders/
LOCATION:Kinnekswiss Park
ATTACH;FMTTYPE=image/jpeg:https://lukraine.org/wp-content/uploads/2026/01/528464494_1161831782647770_7390960372716063669_n.jpg
END:VEVENT
END:VCALENDAR