BEGIN:VCALENDAR
VERSION:2.0
PRODID:-//LUkraine ASBL - Rebuild People to Rebuild Ukraine - ECPv6.15.20//NONSGML v1.0//EN
CALSCALE:GREGORIAN
METHOD:PUBLISH
X-ORIGINAL-URL:https://lukraine.org
X-WR-CALDESC:Events for LUkraine ASBL - Rebuild People to Rebuild Ukraine
REFRESH-INTERVAL;VALUE=DURATION:PT1H
X-Robots-Tag:noindex
X-PUBLISHED-TTL:PT1H
BEGIN:VTIMEZONE
TZID:Europe/Luxembourg
BEGIN:DAYLIGHT
TZOFFSETFROM:+0100
TZOFFSETTO:+0200
TZNAME:CEST
DTSTART:20240331T010000
END:DAYLIGHT
BEGIN:STANDARD
TZOFFSETFROM:+0200
TZOFFSETTO:+0100
TZNAME:CET
DTSTART:20241027T010000
END:STANDARD
BEGIN:DAYLIGHT
TZOFFSETFROM:+0100
TZOFFSETTO:+0200
TZNAME:CEST
DTSTART:20250330T010000
END:DAYLIGHT
BEGIN:STANDARD
TZOFFSETFROM:+0200
TZOFFSETTO:+0100
TZNAME:CET
DTSTART:20251026T010000
END:STANDARD
BEGIN:DAYLIGHT
TZOFFSETFROM:+0100
TZOFFSETTO:+0200
TZNAME:CEST
DTSTART:20260329T010000
END:DAYLIGHT
BEGIN:STANDARD
TZOFFSETFROM:+0200
TZOFFSETTO:+0100
TZNAME:CET
DTSTART:20261025T010000
END:STANDARD
END:VTIMEZONE
BEGIN:VEVENT
DTSTART;TZID=Europe/Luxembourg:20250607T183000
DTEND;TZID=Europe/Luxembourg:20250607T200000
DTSTAMP:20260423T174228
CREATED:20260131T082716Z
LAST-MODIFIED:20260131T082716Z
UID:10000084-1749321000-1749326400@lukraine.org
SUMMARY:Concert-conference on Ukrainian classical music by Violina Petrychenko
DESCRIPTION:This unique concert-conference offers an inspiring journey into the world of Ukrainian classical music\, guided by pianist and musicologist Violina Petrychenko\, and is organized thanks to partnership with Club de Musique des Institutions européennes \, Pianos Kelly and Mr. Geoff Piper. \n\n\n\n\n\nPROGRAM\n\n\n\n\n\nAs part of the UA Days Festival\, this unique concert-conference offers an inspiring journey into the world of Ukrainian classical music\, guided by pianist and musicologist Violina Petrychenko. \nThrough live performance and insightful commentary\, Violina will introduce you to the rich legacy of Ukrainian composers — voices that have long remained in the shadow of European classics\, yet deserve to be heard on the world stage. \nThis event is made possible through the generous partnership with “Club de Musique des Institutions européennes”\, Pianos Kelly\, and Mr. Geoff Piper. \nFree admission with donation \nReservations: cm.president@cercleculturel.lu or iryna.bahno@ukrainians.lu
URL:https://lukraine.org/event/concert-conference-on-ukrainian-classical-music-by-violina-petrychenko/
ATTACH;FMTTYPE=image/png:https://lukraine.org/wp-content/uploads/2026/01/2-scaled-psvbjn.png
END:VEVENT
END:VCALENDAR