BEGIN:VCALENDAR
VERSION:2.0
PRODID:-//LUkraine ASBL - Rebuild People to Rebuild Ukraine - ECPv6.15.20//NONSGML v1.0//EN
CALSCALE:GREGORIAN
METHOD:PUBLISH
X-WR-CALNAME:LUkraine ASBL - Rebuild People to Rebuild Ukraine
X-ORIGINAL-URL:https://lukraine.org
X-WR-CALDESC:Events for LUkraine ASBL - Rebuild People to Rebuild Ukraine
REFRESH-INTERVAL;VALUE=DURATION:PT1H
X-Robots-Tag:noindex
X-PUBLISHED-TTL:PT1H
BEGIN:VTIMEZONE
TZID:Europe/Luxembourg
BEGIN:DAYLIGHT
TZOFFSETFROM:+0100
TZOFFSETTO:+0200
TZNAME:CEST
DTSTART:20240331T010000
END:DAYLIGHT
BEGIN:STANDARD
TZOFFSETFROM:+0200
TZOFFSETTO:+0100
TZNAME:CET
DTSTART:20241027T010000
END:STANDARD
BEGIN:DAYLIGHT
TZOFFSETFROM:+0100
TZOFFSETTO:+0200
TZNAME:CEST
DTSTART:20250330T010000
END:DAYLIGHT
BEGIN:STANDARD
TZOFFSETFROM:+0200
TZOFFSETTO:+0100
TZNAME:CET
DTSTART:20251026T010000
END:STANDARD
BEGIN:DAYLIGHT
TZOFFSETFROM:+0100
TZOFFSETTO:+0200
TZNAME:CEST
DTSTART:20260329T010000
END:DAYLIGHT
BEGIN:STANDARD
TZOFFSETFROM:+0200
TZOFFSETTO:+0100
TZNAME:CET
DTSTART:20261025T010000
END:STANDARD
END:VTIMEZONE
BEGIN:VEVENT
DTSTART;TZID=Europe/Luxembourg:20250606T193000
DTEND;TZID=Europe/Luxembourg:20250606T210000
DTSTAMP:20260423T174059
CREATED:20260131T082714Z
LAST-MODIFIED:20260131T082714Z
UID:10000083-1749238200-1749243600@lukraine.org
SUMMARY:UA Days Opening Concert
DESCRIPTION:Piano Quintets by Vasyl Barvinsky and Borys Lyatoshynsky.\nThis evening’s program highlights two of Ukraine’s most important composers\, whose music blends national identity with universal emotions.\nPerformed by Phoenix String Quartet with Pianist Violina Petrychenko. \n  \n\n\nPROGRAM\n\n\n\n\n\nPhoenix String Quartet with pianist Violina Petrychenko \nThe Phoenix String Quartet\, founded in 2006 in Lviv\, Ukraine\, brings together graduates of the Mykola Lysenko Lviv National Music Academy: \n\nMykola Havyuk\, Violin\nPetro Titiaiev\, Violin\nAnna Bura\, Viola\nDenys Litvinenko\, Cello\n\nThe ensemble has performed at numerous international chamber music festivals and has been awarded the prestigious Liudkevych Prize for its artistic excellence. Since 2023\, Violina Petrychenko has joined the quartet as a pianist\, expanding it into a quintet to introduce Ukrainian chamber music to a broader audience. \n\nViolina Petrychenko\, born in Zaporizhzhia\, studied in Kyiv\, Weimar\, Cologne\, and Essen. She has released six albums featuring works by 20th-century Ukrainian composers\, earning multiple Opus Klassik nominations. As the artistic director of the “Sounds of Ukraine” festival and a soloist with the Lviv Philharmonic\, she is passionately dedicated to promoting Ukrainian music worldwide. \nProgram: Piano Quintets by Vasyl Barvinsky and Borys Lyatoshynsky \nThis evening’s program highlights two of Ukraine’s most important composers\, whose music blends national identity with universal emotions. \nVasyl Barvinsky (1888–1963) \nThe Piano Quintet in G minor\, composed around 1912\, is one of the most significant Ukrainian chamber music works of the early 20th century. \n\nThe first movement\, Grave\, quasi sospitando\, sets a dark and searching tone\, filled with expressive lamenting motifs.\nThe second movement\, Allegro non troppo\, contrasts dramatic passages with folk-inspired elements.\nThe final movement\, Prayer\, is a deeply spiritual Adagio\, imbued with solemn beauty.\n\nAfter Barvinsky was arrested by the Soviet regime\, his manuscripts were destroyed. He later reconstructed the quintet from memory—an act of artistic resilience and devotion to his homeland. \nBorys Lyatoshynsky (1895–1968) \nThe Piano Quintet\, Op. 42\, composed in 1942 during Lyatoshynsky’s wartime evacuation\, is often referred to as the “Ukrainian Quintet.” It is a deeply passionate work\, filled with yearning\, hope\, and resilience. Despite the backdrop of war\, the music conveys a sense of inner peace and poetic depth. The four movements—Allegro e poco agitato\, Lento e tranquillo\, Allegro\, and Allegro risoluto—demonstrate Lyatoshynsky’s mastery in balancing drama with lyrical introspection. \nWith the 130th anniversary of Lyatoshynsky’s birth approaching in 2025\, his music is gaining increasing recognition across European concert halls. \n\n\nBuy a ticket
URL:https://lukraine.org/event/ua-days-opening-concert/
ATTACH;FMTTYPE=image/png:https://lukraine.org/wp-content/uploads/2026/01/1-scaled-3ahitn.png
END:VEVENT
END:VCALENDAR