BEGIN:VCALENDAR
VERSION:2.0
PRODID:-//LUkraine ASBL - Rebuild People to Rebuild Ukraine - ECPv6.15.20//NONSGML v1.0//EN
CALSCALE:GREGORIAN
METHOD:PUBLISH
X-ORIGINAL-URL:https://lukraine.org
X-WR-CALDESC:Events for LUkraine ASBL - Rebuild People to Rebuild Ukraine
REFRESH-INTERVAL;VALUE=DURATION:PT1H
X-Robots-Tag:noindex
X-PUBLISHED-TTL:PT1H
BEGIN:VTIMEZONE
TZID:Europe/Luxembourg
BEGIN:DAYLIGHT
TZOFFSETFROM:+0100
TZOFFSETTO:+0200
TZNAME:CEST
DTSTART:20240331T010000
END:DAYLIGHT
BEGIN:STANDARD
TZOFFSETFROM:+0200
TZOFFSETTO:+0100
TZNAME:CET
DTSTART:20241027T010000
END:STANDARD
BEGIN:DAYLIGHT
TZOFFSETFROM:+0100
TZOFFSETTO:+0200
TZNAME:CEST
DTSTART:20250330T010000
END:DAYLIGHT
BEGIN:STANDARD
TZOFFSETFROM:+0200
TZOFFSETTO:+0100
TZNAME:CET
DTSTART:20251026T010000
END:STANDARD
BEGIN:DAYLIGHT
TZOFFSETFROM:+0100
TZOFFSETTO:+0200
TZNAME:CEST
DTSTART:20260329T010000
END:DAYLIGHT
BEGIN:STANDARD
TZOFFSETFROM:+0200
TZOFFSETTO:+0100
TZNAME:CET
DTSTART:20261025T010000
END:STANDARD
END:VTIMEZONE
BEGIN:VEVENT
DTSTART;TZID=Europe/Luxembourg:20250430T160000
DTEND;TZID=Europe/Luxembourg:20250514T160000
DTSTAMP:20260423T192029
CREATED:20260131T082713Z
LAST-MODIFIED:20260131T082713Z
UID:10000082-1746028800-1747238400@lukraine.org
SUMMARY:TIMESTAMP by Kateryna Gornostai І  Іn Luxembourg Сinemas
DESCRIPTION:The documentary TIMESTAMP by Ukrainian director Kateryna Gornostai\, selected for the official competition at the most recent Berlinale\, will be released in Luxembourg cinemas starting April 30.\n\nScreenings will take place at the following venues:\n Tickets available at:\n UTOPIA: https://kinepolis.lu/…/detail/35634/HO00007250/0/timestamp KINEPOLIS BELVAL: https://kinepolis.lu/…/detail/35634/HO00007250/0/timestamp KULTURHUEF: https://tickets.kulturhuef.lu/de/movies/view/timestamp CINÉ PRABBELI: https://tickets.prabbeli.lu/de/movies/view/timestamp CINÉ SURA: https://www.cinextdoor.lu/projects/cin%C3%A9-sura CINÉ ORION: https://orion.lu/fr/movies/view/timestamp CINÉ STARLIGHT: https://tickets.cinestarlight.lu/de/movies/view/timestamp CINÉ LE PARIS: https://leparis.lu/fr/movies/view/timestamp KINOLER: https://kinoler.lu/fr/movies/view/timestamp\n\nTIMESTAMP is produced by 2Brave Productions (Ukraine) and co-produced by a_BAHN (Luxembourg)\, Rinkel Film BV (Netherlands)\, and Cinephage Productions (France) as associate producer.\nThe concept was developed by the Ukrainian educational organization Osvitoria\, which also served as the executive producer.\nWe invite the Ukrainian community and all film enthusiasts to watch this powerful documentary!
URL:https://lukraine.org/event/timestamp-by-kateryna-gornostai-i-in-luxembourg-sinemas/
ATTACH;FMTTYPE=image/jpeg:https://lukraine.org/wp-content/uploads/2026/01/494408833_1083320610498888_7502480996919883249_n-sc1eqx.jpg
END:VEVENT
BEGIN:VEVENT
DTSTART;TZID=Europe/Luxembourg:20250514T180000
DTEND;TZID=Europe/Luxembourg:20250514T200000
DTSTAMP:20260423T192029
CREATED:20260131T082712Z
LAST-MODIFIED:20260131T082712Z
UID:10000081-1747245600-1747252800@lukraine.org
SUMMARY:Medical Evacuation in Conflict Zones: Realities\, Challenges\, and NGO Involvement
DESCRIPTION:On behalf of LUkraine\, we are pleased to invite you to our panel discussion titled “Medical Evacuation in Conflict Zones: Realities\, Challenges\, and NGO Involvement” scheduled for 14 May 2025\, from 18:00 to 20:00 at Banque de Luxembourg\, Auditorium (14\, Boulevard Royal L-2449 Luxembourg). \nThe discussion aims to address practical challenges\, international standards\, and the role of NGOs and governmental entities in medical evacuation scenarios. \nOur confirmed speakers include: \n\nMs. Yana Zinkevych\, Ukrainian Member of Parliament and founder of the volunteer medical battalion “Hospitallers”\nMr. Yuriy Matviyenko\, Oﬃcer of the Unmanned System Forces\nMs. Tilly Metz\, Member of the European Parliament\, Vice-Chair of the Committee on Public Health (online)\nMr. Claud\, Chief Warrant Officer\, Luxembourg Armed Forces\, Tactical Paramedic\, EUMAM-UA\nMr. David\, Chief Warrant Officer\, Luxembourg Armed Forces\, Tactical Paramedic\, EUMAM-UA\nMs. Sally Loos\, Senior Technical Officer. Section Chief\, Medical Office at NATO Support & Procurement Agency\n\nWe would be delighted by your presence and participation in this insightful discussion. \nRegistration: \nRegistration is mandatory to attend the event.\nPlease fill in the registration form using the button below. Your form submission will serve as confirmation of attendance. \nRegistration form\n \nFor any questions or assistance\, feel free to contact us at contact@lukraine.org.
URL:https://lukraine.org/event/medical-evacuation-in-conflict-zones-realities-challenges-and-ngo-involvement/
END:VEVENT
END:VCALENDAR