BEGIN:VCALENDAR
VERSION:2.0
PRODID:-//LUkraine ASBL - Rebuild People to Rebuild Ukraine - ECPv6.15.20//NONSGML v1.0//EN
CALSCALE:GREGORIAN
METHOD:PUBLISH
X-ORIGINAL-URL:https://lukraine.org
X-WR-CALDESC:Events for LUkraine ASBL - Rebuild People to Rebuild Ukraine
REFRESH-INTERVAL;VALUE=DURATION:PT1H
X-Robots-Tag:noindex
X-PUBLISHED-TTL:PT1H
BEGIN:VTIMEZONE
TZID:Europe/Luxembourg
BEGIN:DAYLIGHT
TZOFFSETFROM:+0100
TZOFFSETTO:+0200
TZNAME:CEST
DTSTART:20240331T010000
END:DAYLIGHT
BEGIN:STANDARD
TZOFFSETFROM:+0200
TZOFFSETTO:+0100
TZNAME:CET
DTSTART:20241027T010000
END:STANDARD
BEGIN:DAYLIGHT
TZOFFSETFROM:+0100
TZOFFSETTO:+0200
TZNAME:CEST
DTSTART:20250330T010000
END:DAYLIGHT
BEGIN:STANDARD
TZOFFSETFROM:+0200
TZOFFSETTO:+0100
TZNAME:CET
DTSTART:20251026T010000
END:STANDARD
BEGIN:DAYLIGHT
TZOFFSETFROM:+0100
TZOFFSETTO:+0200
TZNAME:CEST
DTSTART:20260329T010000
END:DAYLIGHT
BEGIN:STANDARD
TZOFFSETFROM:+0200
TZOFFSETTO:+0100
TZNAME:CET
DTSTART:20261025T010000
END:STANDARD
END:VTIMEZONE
BEGIN:VEVENT
DTSTART;TZID=Europe/Luxembourg:20250306T193000
DTEND;TZID=Europe/Luxembourg:20250306T210000
DTSTAMP:20260423T220545
CREATED:20260131T082658Z
LAST-MODIFIED:20260131T082658Z
UID:10000071-1741289400-1741294800@lukraine.org
SUMMARY:🎶 Creative Evening with Serhii Vasyluk 🎶
DESCRIPTION:Join us for an unforgettable evening of live music\, inspiration\, and patriotic spirit! \n  \n📅 Date & Time: \n🔹 Start at 19:30 (doors open at 19:00) \n💰 Entrance: donation-based \n  \n🔥 Headliner – Serhii Vasyluk 🔥 \nThe leader of the legendary band Tінь Сонця (Shadow of the Sun)\, known for iconic songs like “Mech Areya”\, “Kozaky”\, and many more. \nSince the full-scale invasion\, Serhii has been a soldier of the 130th Battalion of the 241st Territorial Defense Brigade. He participated in the liberation of Kharkiv region\, later served in the mortar battery and aerial reconnaissance\, and now represents the RUBPAK “Vyrіy” of the 241st Brigade\, currently defending Ukraine’s south. \n  \n🎼 Program: \n✅ The best hits of Tінь Сонця \n✅ Traditional Ukrainian folk songs – both famous and rare \n✅ Open talk with Serhii: ask your questions\, get honest answers \n✅ Charity auction – get unique items and support our defenders! \n  \n🛡 Auction lots: \n🎭 Traditional Ukrainian motanka dolls \n🕯 Candle holders made from shell casings \n🔫 Painted large-caliber shells and tubes \n👕 Tінь Сонця branded T-shirts \n… and many more exclusive items! \n  \n🌟 Don’t miss this unique evening! \nCome\, bring your friends – together\, let’s create an unforgettable atmosphere and support Ukraine! 🇺🇦 \n  \n📍 See you there!
URL:https://lukraine.org/event/%f0%9f%8e%b6-creative-evening-with-serhii-vasyluk-%f0%9f%8e%b6/
ATTACH;FMTTYPE=image/png:https://lukraine.org/wp-content/uploads/2026/01/tinjsoncia_2-9asfcm-scaled.png
END:VEVENT
END:VCALENDAR