BEGIN:VCALENDAR
VERSION:2.0
PRODID:-//LUkraine ASBL - Rebuild People to Rebuild Ukraine - ECPv6.15.20//NONSGML v1.0//EN
CALSCALE:GREGORIAN
METHOD:PUBLISH
X-ORIGINAL-URL:https://lukraine.org
X-WR-CALDESC:Events for LUkraine ASBL - Rebuild People to Rebuild Ukraine
REFRESH-INTERVAL;VALUE=DURATION:PT1H
X-Robots-Tag:noindex
X-PUBLISHED-TTL:PT1H
BEGIN:VTIMEZONE
TZID:Europe/Luxembourg
BEGIN:DAYLIGHT
TZOFFSETFROM:+0100
TZOFFSETTO:+0200
TZNAME:CEST
DTSTART:20230326T010000
END:DAYLIGHT
BEGIN:STANDARD
TZOFFSETFROM:+0200
TZOFFSETTO:+0100
TZNAME:CET
DTSTART:20231029T010000
END:STANDARD
BEGIN:DAYLIGHT
TZOFFSETFROM:+0100
TZOFFSETTO:+0200
TZNAME:CEST
DTSTART:20240331T010000
END:DAYLIGHT
BEGIN:STANDARD
TZOFFSETFROM:+0200
TZOFFSETTO:+0100
TZNAME:CET
DTSTART:20241027T010000
END:STANDARD
BEGIN:DAYLIGHT
TZOFFSETFROM:+0100
TZOFFSETTO:+0200
TZNAME:CEST
DTSTART:20250330T010000
END:DAYLIGHT
BEGIN:STANDARD
TZOFFSETFROM:+0200
TZOFFSETTO:+0100
TZNAME:CET
DTSTART:20251026T010000
END:STANDARD
END:VTIMEZONE
BEGIN:VEVENT
DTSTART;TZID=Europe/Luxembourg:20240620T180000
DTEND;TZID=Europe/Luxembourg:20240620T180000
DTSTAMP:20260424T094606
CREATED:20260131T082641Z
LAST-MODIFIED:20260131T082645Z
UID:10000065-1718906400-1718906400@lukraine.org
SUMMARY:GO_A & DJ Mike MC Сoncert
DESCRIPTION:LUkraine asbl and Kulturfabrik invite you to LUkraine asbl and Kulturfabrik invite you to experience the enchanting fusion of Ukrainian folk music with electronic beats performed by GO_A. DJ Mike MC from Luxembourg will also be there to keep the party going.\nThe festivities begin at 6pm with a craft market and mouthwatering Ukrainian snacks. \n18:00 – 20:00 – Ukrainian crafts&food market\n20:00 – Main Part \nGo_A offers a modern reinterpretation of Ukrainian folklore packaged in electronic sound. Performing their tracks in the Ukrainian language\, Go_A’s music immerses listeners in authentic Ukrainian folk with contemporary arrangements\, utilizing traditional musical instruments and the front woman’s folklore singing style. They create an ambience of Ukrainian culture using traditional elements\, symbols\, and clothing\, alongside modern approaches like lighting effects.\nThe band gained worldwide recognition at the Eurovision Contest 2021\, placing 5th in the grand finale. Their track “SHUM” became an international success\, entering the Billboard Global 200 and becoming the 1st song in Ukrainian to reach global charts\, garnering over 100\,000\,000 streams and topping European and global Spotify charts. In 2023\, Go_A embarked on their longest tour yet\, the Ukrainian Magic Tour\, spanning 23 countries and featuring approximately 40 shows across Europe. \n  \nDJ Mike MC aka Mike Welter international DJ from Luxembourg\, producer and rapper for more than 40 years in the 70s\, the 80s and the 90s until today. Mike MC was a resident of these clubs: Starlife\, Metropolis\, Atelier\, Rollship\, Blue Joke\, Magic Trier and many more.\nPerforming together on one stage\, the bands celebrate the solidarity of Ukraine and Luxembourg and unity in building cultural bridges between the two countries. \nTICKETS
URL:https://lukraine.org/event/go_a-dj-mike-mc-soncert/
ATTACH;FMTTYPE=image/webp:https://lukraine.org/wp-content/uploads/2026/01/go_a-dj-mike-mc-soncert-elyqjq.webp
END:VEVENT
END:VCALENDAR