BEGIN:VCALENDAR
VERSION:2.0
PRODID:-//LUkraine ASBL - Rebuild People to Rebuild Ukraine - ECPv6.15.20//NONSGML v1.0//EN
CALSCALE:GREGORIAN
METHOD:PUBLISH
X-WR-CALNAME:LUkraine ASBL - Rebuild People to Rebuild Ukraine
X-ORIGINAL-URL:https://lukraine.org
X-WR-CALDESC:Events for LUkraine ASBL - Rebuild People to Rebuild Ukraine
REFRESH-INTERVAL;VALUE=DURATION:PT1H
X-Robots-Tag:noindex
X-PUBLISHED-TTL:PT1H
BEGIN:VTIMEZONE
TZID:Europe/Luxembourg
BEGIN:DAYLIGHT
TZOFFSETFROM:+0100
TZOFFSETTO:+0200
TZNAME:CEST
DTSTART:20230326T010000
END:DAYLIGHT
BEGIN:STANDARD
TZOFFSETFROM:+0200
TZOFFSETTO:+0100
TZNAME:CET
DTSTART:20231029T010000
END:STANDARD
BEGIN:DAYLIGHT
TZOFFSETFROM:+0100
TZOFFSETTO:+0200
TZNAME:CEST
DTSTART:20240331T010000
END:DAYLIGHT
BEGIN:STANDARD
TZOFFSETFROM:+0200
TZOFFSETTO:+0100
TZNAME:CET
DTSTART:20241027T010000
END:STANDARD
BEGIN:DAYLIGHT
TZOFFSETFROM:+0100
TZOFFSETTO:+0200
TZNAME:CEST
DTSTART:20250330T010000
END:DAYLIGHT
BEGIN:STANDARD
TZOFFSETFROM:+0200
TZOFFSETTO:+0100
TZNAME:CET
DTSTART:20251026T010000
END:STANDARD
END:VTIMEZONE
BEGIN:VEVENT
DTSTART;TZID=Europe/Luxembourg:20240615T150000
DTEND;TZID=Europe/Luxembourg:20240615T150000
DTSTAMP:20260424T094513
CREATED:20260131T082609Z
LAST-MODIFIED:20260131T082613Z
UID:10000064-1718463600-1718463600@lukraine.org
SUMMARY:Cultural Boom in Rotondes
DESCRIPTION:TICKETS → \nPrepare for the weekend in Ukrainian style! UA Days offers various activities for you\, your family\, and your friends to experience Ukrainian culture unforgettably! \nDuring the Day:\nEntrance: Free \n\nDifferent outdoor activities\nVR-zone\, master classes on beads\, making T‑shirts\, drawing\, face painting\, real tattoos etc. From 15:00 till 20:30\nKids zone with interactive activities and workshops\nExpand your children’s cultural horizons and explore new traditions together! UA Days offers various activities for kids to have fun and discover new things.  From 15:00 until the last small visitor.\nFood Truck\nHave you ever tried a honey cake? What about the famous Ukrainian varenyky? Enjoy the best of Ukrainian cuisine at the event! From 15:00 till 20:30\nCraft Market\nDiscover modern\, high-quality Ukrainian goods including books\, clothing\, traditional embroideries\, jewellery\, food\, and more\, beloved by many Luxembourgers. From 15:00 till 20:00.\nUkrainian Short Films\nShort films without dialogues or Ukrainian with English subtitles.\n19:00 – 20:00.\nIn Ukrainian\, English and German\nAdditional information: 18+ for the short films and VR\n\n\n20:30 – 23:30\nLive Concerts In the Evening\n\nTICKETS → \nTicket: 10 euros \n\nIZZI @izzi.music.official\nUkrainian band from Warsaw\, plays Ukrainian pop-rock infused with powerful energy\, spirituality\, and the essence of nature. Their upcoming album “Always Free” embodies the energy of the new Ukrainian youth – strong\, unified\, and full of love for their culture. The band is dedicated to celebrating Ukrainian heritage\, with their motto “Helping is izzi” reflecting their musical strength.\n\n  \n\nDeep Dive Culture @ddcband\nLuxembourgish Alternative Rock band\, whose lyrics center around personal experiences and are based on true stories. The name derives from the comparison between the human mind and the ocean: both are nigh endlessly deep\, and when you dive deep enough\, you find things that have been hiding from the light\, like dark thoughts\, suffocated emotions.\n\n\n\n  \nCelebrate Ukrainian culture with us at Rotondes!\nTICKETS →
URL:https://lukraine.org/event/cultural-boom-in-rotondes/
ATTACH;FMTTYPE=image/jpeg:https://lukraine.org/wp-content/uploads/2026/01/cultural-boom-in-rotondes-ome7vi.jpg
END:VEVENT
END:VCALENDAR