BEGIN:VCALENDAR
VERSION:2.0
PRODID:-//LUkraine ASBL - Rebuild People to Rebuild Ukraine - ECPv6.15.20//NONSGML v1.0//EN
CALSCALE:GREGORIAN
METHOD:PUBLISH
X-ORIGINAL-URL:https://lukraine.org
X-WR-CALDESC:Events for LUkraine ASBL - Rebuild People to Rebuild Ukraine
REFRESH-INTERVAL;VALUE=DURATION:PT1H
X-Robots-Tag:noindex
X-PUBLISHED-TTL:PT1H
BEGIN:VTIMEZONE
TZID:Europe/Luxembourg
BEGIN:DAYLIGHT
TZOFFSETFROM:+0100
TZOFFSETTO:+0200
TZNAME:CEST
DTSTART:20230326T010000
END:DAYLIGHT
BEGIN:STANDARD
TZOFFSETFROM:+0200
TZOFFSETTO:+0100
TZNAME:CET
DTSTART:20231029T010000
END:STANDARD
BEGIN:DAYLIGHT
TZOFFSETFROM:+0100
TZOFFSETTO:+0200
TZNAME:CEST
DTSTART:20240331T010000
END:DAYLIGHT
BEGIN:STANDARD
TZOFFSETFROM:+0200
TZOFFSETTO:+0100
TZNAME:CET
DTSTART:20241027T010000
END:STANDARD
BEGIN:DAYLIGHT
TZOFFSETFROM:+0100
TZOFFSETTO:+0200
TZNAME:CEST
DTSTART:20250330T010000
END:DAYLIGHT
BEGIN:STANDARD
TZOFFSETFROM:+0200
TZOFFSETTO:+0100
TZNAME:CET
DTSTART:20251026T010000
END:STANDARD
END:VTIMEZONE
BEGIN:VEVENT
DTSTART;TZID=Europe/Luxembourg:20240613T203000
DTEND;TZID=Europe/Luxembourg:20240613T203000
DTSTAMP:20260424T094621
CREATED:20260131T082642Z
LAST-MODIFIED:20260131T082646Z
UID:10000066-1718310600-1718310600@lukraine.org
SUMMARY:Intercepted
DESCRIPTION:TICKETS →  \n“Intercepted” is a unique documentary featuring authentic intercepted phone calls from Russian soldiers amidst scenes of destruction in Ukraine\, offering a profound insight into the war and the soldiers’ mindset. \n“In this act\, I was particularly intrigued by the role of the so-called Russian ‘peaceful civilians’: the mothers\, wives\, and sisters of russian soldiers\,” said director Oksana Karpovich. \nСo-organised with CinEast \nDirector: Oksana Karpovych\nCountry: Ukraine/France/Canada\nYear: 2024\nGenre: Documentary\nLanguage: Ukrainian\, Russian with English subtitles \nTICKETS →
URL:https://lukraine.org/event/intercepted/
ATTACH;FMTTYPE=image/jpeg:https://lukraine.org/wp-content/uploads/2026/01/intercepted-xyccmj.jpg
END:VEVENT
END:VCALENDAR